BEGIN:VCALENDAR
PRODID:-//AT Content Types//AT Event//EN
VERSION:1.0
BEGIN:VEVENT
DTSTART:20050517T050000Z
DTEND:20050519T070000Z
DCREATED:20050514T041711Z
UID:ATEvent-525eda30921038cc15aa9581a6698559
SEQUENCE:0
LAST-MODIFIED:20050514T042231Z
SUMMARY:Powstanie życia z punktu widzenia informatyki\, najnowsze naukowe zastrzeżenia wobec teorii ewolucji
DESCRIPTION:Prof. Werner Gitt\, autor książki "Gdyby zwięrzęta mog
 ły mówić". Tematy wykładów "Powstanie życia z punktu widzenia in
 formatyki\, najnowsze naukowe zastrzeżenia wobec teorii ewolucji". Ws
 tęp wolny.
LOCATION:Poznań
PRIORITY:3
TRANSP:0
END:VEVENT
END:VCALENDAR
