BEGIN:VCALENDAR
PRODID:-//AT Content Types//AT Event//EN
VERSION:1.0
BEGIN:VEVENT
DTSTART:20050504T041500Z
DTEND:20050504T063000Z
DCREATED:20050428T211929Z
UID:ATEvent-62bdeb7951168982e928e271f37e9ac5
SEQUENCE:0
LAST-MODIFIED:20050428T212059Z
SUMMARY:Mechanika kwantowa\, postmodernizm i Bóg
DESCRIPTION:Dziekan Wydziału Chemii Uniwersytetu Warszawskiego oraz C
 hrześcijańskie Forum Pracowników Nauki zapraszają na wykład prof.
  Henry F. Schaefera "MECHANIKA KWANTOWA\, POSTMODERNIZM I BÓG". Prof.
  Schaefer jest jednym z najwybitniejszych chemików amerykańskich. Je
 go specjalnością jest chemia kwantowa. Pracuje w University of Georg
 ia. Jest jednym z najczęściej cytowanych współczesnych chemików. 
 Napisał książkę "Nauka i chrześcijaństwo - konflikt czy harmonia
 ?". ŚRODA\, 4 MAJA\, GODZINA 18\:15. Wydział Chemii UW\, ul. Pasteur
 a 1\, Warszawa Aula im. W. Świętosławskiego\, II piętro. Po wykła
 dzie przewidziany czas na dyskusję. Proszę o powiadomienie o spotkan
 iu potencjalnie zainteresowanych znajomych.
LOCATION:Warszawa
PRIORITY:3
TRANSP:0
END:VEVENT
END:VCALENDAR
