BEGIN:VCALENDAR
PRODID:-//AT Content Types//AT Event//EN
VERSION:2.0
METHOD:PUBLISH
BEGIN:VEVENT
DTSTAMP:20260422T230420Z
CREATED:20061120T124033Z
UID:ATEvent-be4f1f3dff37c39a1bcd5b8ef7facf0d
LAST-MODIFIED:20061120T124102Z
SUMMARY:Spotkanie z prof Jerzy Dzik paleontolog w Warszawie
DTSTART:20061120T170000Z
DTEND:20061120T190000Z
DESCRIPTION:Spotkanie z prof Jerzy Dzik paleontolog - dobra książka 
 - Dzieje życia na Ziemi\ndr Piotr Borsuk - genetyk
LOCATION:Warszawa
CLASS:PUBLIC
END:VEVENT
END:VCALENDAR
